BEGIN:VCALENDAR
VERSION:2.0
PRODID:-//hacksw/handcal//NONSGML v1.0//EN
CALSCALE:GREGORIAN
BEGIN:VEVENT
DTEND:20181014T160000Z
UID:69e8f601cf79b
DTSTAMP:19700101T000000Z
LOCATION:
DESCRIPTION:Lehrende und Studierende des Instituts für Restaurierungs- und Konservierungswissenschaft (CICS) der Technischen Hochschule Köln zeigen beim ersten europaweiten Tag der Restaurierung, wie RestauratorInnen wertvolles Kunst- und Kulturgut erhalten.
URL;VALUE=URI:https://kwr.carsten-peters.com/kwr_termine/tag-der-offenen-tuer-5/
SUMMARY:Tag der offenen Tür
DTSTART:20181014T080000Z
END:VEVENT
END:VCALENDAR