BEGIN:VCALENDAR
VERSION:2.0
PRODID:-//hacksw/handcal//NONSGML v1.0//EN
CALSCALE:GREGORIAN
BEGIN:VEVENT
DTEND:20170318T130000Z
UID:69ed0807b337a
DTSTAMP:19700101T000000Z
LOCATION:
DESCRIPTION:Regelmäßig lädt die Fachhochschule der Wirtschaft (FHDW) in Bergisch Gladbach Studieninteressierte sowie deren Eltern und Freunde zum Tag der offenen Tür ein.
URL;VALUE=URI:https://kwr.carsten-peters.com/kwr_termine/fhdw-tag-der-offenen-tuer/
SUMMARY:FHDW: Tag der offenen Tür
DTSTART:20170318T090000Z
END:VEVENT
END:VCALENDAR