BEGIN:VCALENDAR
VERSION:2.0
PRODID:-//hacksw/handcal//NONSGML v1.0//EN
CALSCALE:GREGORIAN
BEGIN:VEVENT
DTEND:20191002T170000Z
UID:69ec1254a90c1
DTSTAMP:19700101T000000Z
LOCATION:
DESCRIPTION:Der Umgang mit Diversität und Minoritäten in Deutschland wird emotional und oft stark polarisiert diskutiert. Die öffentliche Podiumsdiskussion an der Universität zu Köln fragt nach Bedeutung und Inhalten eines multireligiösen, multilingualen und multiethnischen Selbstverständnisses als mögliche positive Ressource.
URL;VALUE=URI:https://kwr.carsten-peters.com/kwr_termine/diversitaet-und-minderheiten/
SUMMARY:Diversität und Minderheiten
DTSTART:20191002T170000Z
END:VEVENT
END:VCALENDAR