BEGIN:VCALENDAR
VERSION:2.0
PRODID:-//hacksw/handcal//NONSGML v1.0//EN
CALSCALE:GREGORIAN
BEGIN:VEVENT
DTEND:20220119T183000Z
UID:69e9f6d24fbe0
DTSTAMP:19700101T000000Z
LOCATION:
DESCRIPTION:
URL;VALUE=URI:https://kwr.carsten-peters.com/kwr_termine/ringvorlesung-global-classics/
SUMMARY:Ringvorlesung Global Classics
DTSTART:20211020T160000Z
END:VEVENT
END:VCALENDAR