BEGIN:VCALENDAR
VERSION:2.0
PRODID:-//hacksw/handcal//NONSGML v1.0//EN
CALSCALE:GREGORIAN
BEGIN:VEVENT
DTEND:20181021T160000Z
UID:69eafd2eca1b8
DTSTAMP:19700101T000000Z
LOCATION:
DESCRIPTION:Masterstudierende der Architektur der TH Köln haben in enger Zusammenarbeit mit der Stiftung Zollverein gestalterisch-bauliche Lösungen für das Areal der Industrieanlage Zeche Zollverein entwickelt.
URL;VALUE=URI:https://kwr.carsten-peters.com/kwr_termine/backstein-beton-businessplaene/
SUMMARY:Backstein, Beton &#038; Businesspläne
DTSTART:20181006T080000Z
END:VEVENT
END:VCALENDAR