BEGIN:VCALENDAR
VERSION:2.0
PRODID:-//hacksw/handcal//NONSGML v1.0//EN
CALSCALE:GREGORIAN
BEGIN:VEVENT
DTEND:20240507T160000Z
UID:69ed224aaceba
DTSTAMP:19700101T000000Z
LOCATION:
DESCRIPTION:Studierende der Rheinischen Hochschule Köln laden um 15. Forum Mediendesign ein. Im Fokus steht der Austausch über aktuelle Fragen zum Design im gesellschaftlichen Kontext. Zu Gast ist Simon Lovermann, Mitgründer des erfolgreichen Münchener Fotomagazins „Der Greif“.
URL;VALUE=URI:https://kwr.carsten-peters.com/kwr_termine/15-forum-mediendesign-an-der-rh/
SUMMARY:15. Forum Mediendesign der RH
DTSTART:20240507T160000Z
END:VEVENT
END:VCALENDAR