BEGIN:VCALENDAR
VERSION:2.0
PRODID:-//hacksw/handcal//NONSGML v1.0//EN
CALSCALE:GREGORIAN
BEGIN:VEVENT
DTEND:20200728T140000Z
UID:69ead76f5f87c
DTSTAMP:19700101T000000Z
LOCATION:
DESCRIPTION:KAoA-Berater*innen der TH Köln und der Universität zu Köln veranstalten in Kooperation eine Online-Beratung unter dem Titel „TalkToTwo“ in Form einer Webkonferenz. Die Online-Beratung soll Fragen rund ums Studium klären und eine Hilfestellung bei der Studienwahl bieten.
URL;VALUE=URI:https://kwr.carsten-peters.com/kwr_termine/talktotwo-online-austauschrunde/
SUMMARY:TalkToTwo: Online-Austauschrunde
DTSTART:20200728T130000Z
END:VEVENT
END:VCALENDAR