BEGIN:VCALENDAR
VERSION:2.0
PRODID:-//hacksw/handcal//NONSGML v1.0//EN
CALSCALE:GREGORIAN
BEGIN:VEVENT
DTEND:20240226T183000Z
UID:69eb785da4eed
DTSTAMP:19700101T000000Z
LOCATION:
DESCRIPTION:Am 26. Februar ist es wieder soweit: Nachwuchswissenschaftlerinnen und -wissenschaftler bringen beim Kölner Science Slam in der Volksbühne am Rudolfplatz ihre Forschung auf die Bühne. Kreativ, unterhaltsam, amüsant und vor allem für jedermann verständlich präsentieren die Wissenschaftler*innen, woran sie forschen. Dabei sind ihnen kaum Grenzen gesetzt. Ob als Rap oder Gedicht, im Schneidersitz oder mit Tanzeinlage: Alles ist möglich!
URL;VALUE=URI:https://kwr.carsten-peters.com/kwr_termine/vorhang-auf-koelner-science-slam/
SUMMARY:Kölner Science Slam
DTSTART:20240226T183000Z
END:VEVENT
END:VCALENDAR