BEGIN:VCALENDAR
VERSION:2.0
PRODID:-//hacksw/handcal//NONSGML v1.0//EN
CALSCALE:GREGORIAN
BEGIN:VEVENT
DTEND:20200124T090000Z
UID:69e9f6dc53a0c
DTSTAMP:19700101T000000Z
LOCATION:
DESCRIPTION:Die Universität zu Köln lädt zu den Wochen der Studienorientierung ein, einer landesweiten Aktion der NRW-Hochschulen. Das Programm bietet einen Überblick über das breit gefächerte Studienangebot der Universität.
URL;VALUE=URI:https://kwr.carsten-peters.com/kwr_termine/studienorientierung-an-der-uni-koeln/
SUMMARY:Studienorientierung an der Uni Köln
DTSTART:20200113T090000Z
END:VEVENT
END:VCALENDAR