BEGIN:VCALENDAR
VERSION:2.0
PRODID:-//hacksw/handcal//NONSGML v1.0//EN
CALSCALE:GREGORIAN
BEGIN:VEVENT
DTEND:20191129T113000Z
UID:69ed6b1ee1b61
DTSTAMP:19700101T000000Z
LOCATION:
DESCRIPTION:Nachdem im vergangenen Jahr„Good Practice“-Beispiele in der Integrationsarbeit vorgestellt wurden, wollen sich nun Expert*innen dem Begriff Integration und seiner ursprünglichen Bedeutung (lat. für Erneuerung) nähern. Eine Veranstaltung des Kommunalen Integrationszentrums Köln.
URL;VALUE=URI:https://kwr.carsten-peters.com/kwr_termine/konferenz-interkulturelles-koeln-2019/
SUMMARY:Konferenz Interkulturelles Köln 2019
DTSTART:20191129T113000Z
END:VEVENT
END:VCALENDAR