BEGIN:VCALENDAR
VERSION:2.0
PRODID:-//hacksw/handcal//NONSGML v1.0//EN
CALSCALE:GREGORIAN
BEGIN:VEVENT
DTEND:20240205T183000Z
UID:69e80fc08b2db
DTSTAMP:19700101T000000Z
LOCATION:
DESCRIPTION:Bewegung und frische Luft – ein oft gehörter, gut gemeinter Rat. Doch regelmäßiges Krafttraining wird seltener als Grundlage für Gesundheit, Leistungsfähigkeit und Wohlbefinden von der Jugend bis zum Seniorenalter empfohlen. Der interaktive Vortrag von Prof. Dr. Niels Nagel (ISM) beleuchtet anhand wissenschaftlicher Studien, wie Krafttraining auf Körper, Geist und Seele wirkt und gibt darüber hinaus Tipps für das persönliche Training.
URL;VALUE=URI:https://kwr.carsten-peters.com/kwr_termine/trainieren-statt-verlieren-muskeln-als-fundament-fuer-gesundheit-und-lebensqualitaet/
SUMMARY:Trainieren statt verlieren: Muskeln als Fundament für Gesundheit und Lebensqualität
DTSTART:20240205T170000Z
END:VEVENT
END:VCALENDAR