BEGIN:VCALENDAR
VERSION:2.0
PRODID:-//hacksw/handcal//NONSGML v1.0//EN
CALSCALE:GREGORIAN
BEGIN:VEVENT
DTEND:20241031T190000Z
UID:69ece8d273077
DTSTAMP:19700101T000000Z
LOCATION:
DESCRIPTION:Das Klanglabor der Kunsthochschule für Medien Köln (KHM) lädt zu einem Konzert von dj sniff (Takuro Mizuta Lippit) ein. Turntable-Improvisationen sind dj sniffs langjährige Praxis, die Einflüsse aus experimenteller Musik, Hip-Hop und freier Improvisation durch die Verwendung selbstgebauter Instrumente zusammenführt.
URL;VALUE=URI:https://kwr.carsten-peters.com/kwr_termine/soundings-044-dj-sniff-turntable-improvisationen/
SUMMARY:soundings #044: dj sniff – Turntable-Improvisationen
DTSTART:20241031T190000Z
END:VEVENT
END:VCALENDAR