BEGIN:VCALENDAR
VERSION:2.0
PRODID:-//hacksw/handcal//NONSGML v1.0//EN
CALSCALE:GREGORIAN
BEGIN:VEVENT
DTEND:20241007T154500Z
UID:69eb71ae6a18a
DTSTAMP:19700101T000000Z
LOCATION:
DESCRIPTION:Können Smartwatches & Co dazu beitragen, dass sich Menschen mehr bewegen? Sportwissenschaftler, Podcaster und Science-Slammer Dr. Oliver Jan Quittmann von der Deutschen Sporthochschule Köln gibt einen Einblick in aktuelle Studienergebnisse und bezieht Teilnehmer*innen mit Hilfe von Live-Umfragen mit ein.
URL;VALUE=URI:https://kwr.carsten-peters.com/kwr_termine/wearables-smartwatches-co-mehr-bewegung-durch-technik/
SUMMARY:Wearables, Smartwatches &#038; Co – mehr Bewegung durch Technik?
DTSTART:20241007T143000Z
END:VEVENT
END:VCALENDAR