BEGIN:VCALENDAR
VERSION:2.0
PRODID:-//hacksw/handcal//NONSGML v1.0//EN
CALSCALE:GREGORIAN
BEGIN:VEVENT
DTEND:20190616T073000Z
UID:69e9f6d202ea2
DTSTAMP:19700101T000000Z
LOCATION:
DESCRIPTION:Einladung zur Einsatzübung: Institut für Rettungsingenieurwesen und Gefahrenabwehr (IRG) der TH Köln präsentiert Drohne zur Ortung von Verschütteten.
URL;VALUE=URI:https://kwr.carsten-peters.com/kwr_termine/einsatzuebung/
SUMMARY:Einsatzübung
DTSTART:20190616T073000Z
END:VEVENT
END:VCALENDAR