BEGIN:VCALENDAR
VERSION:2.0
PRODID:-//hacksw/handcal//NONSGML v1.0//EN
CALSCALE:GREGORIAN
BEGIN:VEVENT
DTEND:20220523T160000Z
UID:69e76601a1e04
DTSTAMP:19700101T000000Z
LOCATION:
DESCRIPTION:An der Fachhochschule des Mittelstands (FHM) findet ein Online-Fachvortrag von Prof. Dr. Marlies Kroetsch, Hochschullehrerin und Expertin für Kinderschutzkonzepte, statt.
URL;VALUE=URI:https://kwr.carsten-peters.com/kwr_termine/kinderschutz-in-der-pandemie-aktuelle-entwicklungen-und-notwendigkeiten/
SUMMARY:Kinderschutz in der Pandemie: Aktuelle Entwicklungen und Notwendigkeiten
DTSTART:20220523T150000Z
END:VEVENT
END:VCALENDAR