BEGIN:VCALENDAR
VERSION:2.0
PRODID:-//hacksw/handcal//NONSGML v1.0//EN
CALSCALE:GREGORIAN
BEGIN:VEVENT
DTEND:20220428T163000Z
UID:69ec97522287c
DTSTAMP:19700101T000000Z
LOCATION:
DESCRIPTION:CoCo Talk für Studieninteressierte mit dem Schwerpunkt Hausarbeit. Wer einen Einblick erhalten möchte, in den Studiengang Code & Context ist hier gut aufgehoben. Studierende und Lehrende beantworten Fragen und freuen sich auf gute Gespräche mit Menschen, die sich für Codes und Contexte interessieren.
URL;VALUE=URI:https://kwr.carsten-peters.com/kwr_termine/code-context-studiengangstalk/
SUMMARY:Code &#038; Context-Studiengangstalk
DTSTART:20220428T150000Z
END:VEVENT
END:VCALENDAR