BEGIN:VCALENDAR
VERSION:2.0
PRODID:-//hacksw/handcal//NONSGML v1.0//EN
CALSCALE:GREGORIAN
BEGIN:VEVENT
DTEND:20220322T144500Z
UID:69e669f8bea77
DTSTAMP:19700101T000000Z
LOCATION:
DESCRIPTION:Spielerisch programmieren lernen! Am Ende kommt sogar Dein eigenes Computerspiel bei heraus.
URL;VALUE=URI:https://kwr.carsten-peters.com/kwr_termine/scratch-mit-bildern-spielend-programmieren-lernen-gruppe-2/
SUMMARY:Scratch! Mit Bildern spielend programmieren lernen (Gruppe 2)
DTSTART:20220322T140000Z
END:VEVENT
END:VCALENDAR