BEGIN:VCALENDAR
VERSION:2.0
PRODID:-//hacksw/handcal//NONSGML v1.0//EN
CALSCALE:GREGORIAN
BEGIN:VEVENT
DTEND:20211123T170000Z
UID:69eb7096cf834
DTSTAMP:19700101T000000Z
LOCATION:
DESCRIPTION:Wo und wie werden die Spielheld*innen aus Euren digitalen Lieblingsspielen in der Bildung eingesetzt?
URL;VALUE=URI:https://kwr.carsten-peters.com/kwr_termine/digitale-spiele-in-der-hochschule-spielend-lernen-und-verstehen-11-14-jahre/
SUMMARY:Digitale Spiele in der Hochschule &#8211; Spielend lernen und verstehen (11-14 Jahre)
DTSTART:20211123T150000Z
END:VEVENT
END:VCALENDAR