BEGIN:VCALENDAR
VERSION:2.0
PRODID:-//hacksw/handcal//NONSGML v1.0//EN
CALSCALE:GREGORIAN
BEGIN:VEVENT
DTEND:20210616T143000Z
UID:69eb304877808
DTSTAMP:19700101T000000Z
LOCATION:
DESCRIPTION:Ein eigenes Computerspiel entwickeln? Das geht viel einfacher als man denkt! Wir zeigen dir wie das geht. Keine Vorkenntnisse notwendig. Ob Mädchen oder Junge: dieser Workshop ist für alles was!
URL;VALUE=URI:https://kwr.carsten-peters.com/kwr_termine/dino-hat-hunger-baue-dein-erstes-computerspiel/
SUMMARY:Dino hat Hunger! &#8211; Baue Dein erstes Computerspiel
DTSTART:20210616T130000Z
END:VEVENT
END:VCALENDAR