BEGIN:VCALENDAR
VERSION:2.0
PRODID:-//hacksw/handcal//NONSGML v1.0//EN
CALSCALE:GREGORIAN
BEGIN:VEVENT
DTEND:20220120T190000Z
UID:69eb303755e41
DTSTAMP:19700101T000000Z
LOCATION:
DESCRIPTION:Auf dem Infoabend der FHDW erfahren Sie alles rund um das duale Bachelor-Studium. Die FHDW wird Sie persönlich zu Ihren individuellen Fragen beraten.
URL;VALUE=URI:https://kwr.carsten-peters.com/kwr_termine/duales-bachelor-studium-2/
SUMMARY:Duales Bachelor-Studium
DTSTART:20220120T170000Z
END:VEVENT
END:VCALENDAR