BEGIN:VCALENDAR
VERSION:2.0
PRODID:-//hacksw/handcal//NONSGML v1.0//EN
CALSCALE:GREGORIAN
BEGIN:VEVENT
DTEND:20220318T163000Z
UID:69e670e39551f
DTSTAMP:19700101T000000Z
LOCATION:
DESCRIPTION:Viele Rechte müssen in der Europäischen Union dasselbe aussagen. Das ist in unterschiedlichen Sprachen gar nicht so leicht. Ihr sprecht mindestens zwei Sprachen und lest diese auch? Dann meldet Euch für diese Veranstaltung an und wir schauen, wie schwierig das tatsächlich ist.
URL;VALUE=URI:https://kwr.carsten-peters.com/kwr_termine/voll-gerecht-wie-schafft-europa-gleiches-recht-in-vielen-sprachen/
SUMMARY:Voll gerecht! &#8211; Wie schafft Europa gleiches Recht in vielen Sprachen?
DTSTART:20220318T153000Z
END:VEVENT
END:VCALENDAR