BEGIN:VCALENDAR
VERSION:2.0
PRODID:-//hacksw/handcal//NONSGML v1.0//EN
CALSCALE:GREGORIAN
BEGIN:VEVENT
DTEND:20220516T130000Z
UID:69e8e79a795f1
DTSTAMP:19700101T000000Z
LOCATION:
DESCRIPTION:Kopfüber, kopfunter, drunter und drüber... unser Turner Jonas Rohleder zeigt Euch, was man alles „verrücktes“ im Turnen machen kann. Macht mit!
URL;VALUE=URI:https://kwr.carsten-peters.com/kwr_termine/turnen/
SUMMARY:Turnen
DTSTART:20220516T120000Z
END:VEVENT
END:VCALENDAR