BEGIN:VCALENDAR
VERSION:2.0
PRODID:-//hacksw/handcal//NONSGML v1.0//EN
CALSCALE:GREGORIAN
BEGIN:VEVENT
DTEND:20250125T190000Z
UID:69eb2e6b158b0
DTSTAMP:19700101T000000Z
LOCATION:
DESCRIPTION:Das Institut für Outdoor Sport und Umweltforschung der Deutschen Sporthochschule Köln lädt am 25. Januar und am 2. Februar zur neuen Abenteuershow von Backpacker Niklas Bahn unter dem Titel „Backpackoholic“ ein.
URL;VALUE=URI:https://kwr.carsten-peters.com/kwr_termine/reiseabenteuershow-backpackoholic/
SUMMARY:Reiseabenteuershow „Backpackoholic“
DTSTART:20250125T173000Z
END:VEVENT
END:VCALENDAR