BEGIN:VCALENDAR
VERSION:2.0
PRODID:-//hacksw/handcal//NONSGML v1.0//EN
CALSCALE:GREGORIAN
BEGIN:VEVENT
DTEND:20210608T153000Z
UID:69eb88e688668
DTSTAMP:19700101T000000Z
LOCATION:
DESCRIPTION:Mehr aus Eurem Taschengeld machen? Hier erfahrt Ihr, wie das geht. Und was hat es mit diesem Leverage-Effekt auf sich?
URL;VALUE=URI:https://kwr.carsten-peters.com/kwr_termine/wie-verdoppele-ich-mein-taschengeld-der-leverage-effekt-der-finanzierung/
SUMMARY:Wie verdoppele ich mein Taschengeld – der Leverage-Effekt der Finanzierung
DTSTART:20210608T140000Z
END:VEVENT
END:VCALENDAR