BEGIN:VCALENDAR
VERSION:2.0
PRODID:-//hacksw/handcal//NONSGML v1.0//EN
CALSCALE:GREGORIAN
BEGIN:VEVENT
DTEND:20210519T160000Z
UID:69eb44bd24eb8
DTSTAMP:19700101T000000Z
LOCATION:
DESCRIPTION:Jeder weiß, wie ein Rettungswagen von außen aussieht. Aber woher kommt er? Wer fährt ihn? Warum kommt der Notarzt mit einem eigenen Wagen? Und wann kommt der Rettungshubschrauber?
URL;VALUE=URI:https://kwr.carsten-peters.com/kwr_termine/was-passiert-wenn-ich-die-112-anrufe/
SUMMARY:Was passiert, wenn ich die 112 anrufe?
DTSTART:20210519T150000Z
END:VEVENT
END:VCALENDAR