BEGIN:VCALENDAR
VERSION:2.0
PRODID:-//hacksw/handcal//NONSGML v1.0//EN
CALSCALE:GREGORIAN
BEGIN:VEVENT
DTEND:20220519T133000Z
UID:69eb4507d45af
DTSTAMP:19700101T000000Z
LOCATION:
DESCRIPTION:Wusstet Ihr, dass der kleinste Basketballspieler in der NBA-Geschichte 1,60 Meter groß war? Der größte Spieler war über 2,30 Meter! Basketball spielen ist also für Groß und Klein. Hauptsache Ihr habt Spaß am Basketball!
URL;VALUE=URI:https://kwr.carsten-peters.com/kwr_termine/trampolin/
SUMMARY:Basketball
DTSTART:20220519T120000Z
END:VEVENT
END:VCALENDAR