BEGIN:VCALENDAR
VERSION:2.0
PRODID:-//hacksw/handcal//NONSGML v1.0//EN
CALSCALE:GREGORIAN
BEGIN:VEVENT
DTEND:20221103T183000Z
UID:69eca3635d68b
DTSTAMP:19700101T000000Z
LOCATION:
DESCRIPTION:Science live on stage – kommt, staunt, klatscht und entscheidet! An diesem Abend werden die Westdeutschen Meisterschaften 2022 im Science Slam ausgetragen. Höchst motivierte junge Wissenschaftler*innen präsentieren dabei Ihre eigene Forschung.
URL;VALUE=URI:https://kwr.carsten-peters.com/kwr_termine/meisterschaften-im-science-slam/
SUMMARY:Meisterschaften im Science Slam
DTSTART:20221103T183000Z
END:VEVENT
END:VCALENDAR