BEGIN:VCALENDAR
VERSION:2.0
PRODID:-//hacksw/handcal//NONSGML v1.0//EN
CALSCALE:GREGORIAN
BEGIN:VEVENT
DTEND:20170403T170000Z
UID:69e9df5d0eae9
DTSTAMP:19700101T000000Z
LOCATION:
DESCRIPTION:Judith Dubiski und Marcela Cano  vom Forschungsschwerpunkt Non-formale Bildung der TH Köln geben am Montag Einblicke in die wissenschaftliche Begleitforschung.
URL;VALUE=URI:https://kwr.carsten-peters.com/kwr_termine/unvoreingenommen-oder-verunsichert/
SUMMARY:Unvoreingenommen oder verunsichert?
DTSTART:20170403T153000Z
END:VEVENT
END:VCALENDAR