BEGIN:VCALENDAR
VERSION:2.0
PRODID:-//hacksw/handcal//NONSGML v1.0//EN
CALSCALE:GREGORIAN
BEGIN:VEVENT
DTEND:20200519T153000Z
UID:69e9df5d0e9c8
DTSTAMP:19700101T000000Z
LOCATION:
DESCRIPTION:Ende des letzten Jahres hat der Gesetzgeber tiefgreifende Änderungen in der Psychotherapie-Ausbildung beschlossen. Im September 2020 tritt das Gesetz zur Reform der Psychotherapieausbildung in Kraft. Welche Konsequenzen bringen die Änderungen des Gesetzes mit sich und wie können Sie Psychologie an der FHM studieren? Antworten gibt es in der Psychologie Online-Infoveranstaltung.
URL;VALUE=URI:https://kwr.carsten-peters.com/kwr_termine/psychologie-online-infoabend/
SUMMARY:Psychologie Online-Infoabend
DTSTART:20200519T153000Z
END:VEVENT
END:VCALENDAR