BEGIN:VCALENDAR
VERSION:2.0
PRODID:-//hacksw/handcal//NONSGML v1.0//EN
CALSCALE:GREGORIAN
BEGIN:VEVENT
DTEND:20180130T150000Z
UID:69e749c3a757d
DTSTAMP:19700101T000000Z
LOCATION:
DESCRIPTION:Symposium: Viele Krankheiten entstehen durch ein komplexes Zusammenspiel von individuellen Eigenschaften, Lebensgewohnheiten und Umwelteinflüssen. All diese Faktoren lassen sich zunehmend durch digitale Daten abbilden.
URL;VALUE=URI:https://kwr.carsten-peters.com/kwr_termine/mehr-daten-fuer-weniger-krankheit/
SUMMARY:Mehr Daten für weniger Krankheit?
DTSTART:20180130T090000Z
END:VEVENT
END:VCALENDAR