BEGIN:VCALENDAR
VERSION:2.0
PRODID:-//hacksw/handcal//NONSGML v1.0//EN
CALSCALE:GREGORIAN
BEGIN:VEVENT
DTEND:20171212T180000Z
UID:69e756ec83f15
DTSTAMP:19700101T000000Z
LOCATION:
DESCRIPTION:Architectural tuesday: Seit 2016 ist der Architekt Christian Rapp Stadtbaumeister von Antwerpen. Nach dem Architekturstudium an der TU Berlin und der TU Delft
URL;VALUE=URI:https://kwr.carsten-peters.com/kwr_termine/stadtbaumeister-antwerpen/
SUMMARY:Stadtbaumeister Antwerpen
DTSTART:20171212T180000Z
END:VEVENT
END:VCALENDAR