BEGIN:VCALENDAR
VERSION:2.0
PRODID:-//hacksw/handcal//NONSGML v1.0//EN
CALSCALE:GREGORIAN
BEGIN:VEVENT
DTEND:20240321T173000Z
UID:69e755e196085
DTSTAMP:19700101T000000Z
LOCATION:
DESCRIPTION:Wie funktioniert Wissenschaft überhaupt? Was genau ist eigentlich ein Experiment?
URL;VALUE=URI:https://kwr.carsten-peters.com/kwr_termine/prof-planlos-und-prof-experimentella/
SUMMARY:Prof. Planlos und Prof. Experimentella erklären, wie Forschung zum Gedächtnis funktioniert
DTSTART:20240314T160000Z
END:VEVENT
END:VCALENDAR