BEGIN:VCALENDAR
VERSION:2.0
PRODID:-//hacksw/handcal//NONSGML v1.0//EN
CALSCALE:GREGORIAN
BEGIN:VEVENT
DTEND:20190109T170000Z
UID:69e7565497635
DTSTAMP:19700101T000000Z
LOCATION:
DESCRIPTION:
URL;VALUE=URI:https://kwr.carsten-peters.com/kwr_termine/kunst-und-wissenschaft/
SUMMARY:Kunst und Wissenschaft
DTSTART:20190109T170000Z
END:VEVENT
END:VCALENDAR