BEGIN:VCALENDAR
VERSION:2.0
PRODID:-//hacksw/handcal//NONSGML v1.0//EN
CALSCALE:GREGORIAN
BEGIN:VEVENT
DTEND:20240308T173000Z
UID:69e7654d08ea7
DTSTAMP:19700101T000000Z
LOCATION:
DESCRIPTION:Wieso, weshalb, warum? Wer nicht fragt bleibt dumm.
URL;VALUE=URI:https://kwr.carsten-peters.com/kwr_termine/selbst-einstein-hatte-nur-ne-4-in-mathe/
SUMMARY:Selbst Einstein hatte nur &#8216;ne 4 in Mathe! Wir erforschen das Leben von Studierenden
DTSTART:20240308T153000Z
END:VEVENT
END:VCALENDAR