BEGIN:VCALENDAR
VERSION:2.0
PRODID:-//hacksw/handcal//NONSGML v1.0//EN
CALSCALE:GREGORIAN
BEGIN:VEVENT
DTEND:20240325T163000Z
UID:69e766d4d0524
DTSTAMP:19700101T000000Z
LOCATION:
DESCRIPTION:Was bedeutet es eigentlich, mehrsprachig zu sein? Welche Rolle spielt Mehrsprachigkeit im Leben verschiedener Menschen?
URL;VALUE=URI:https://kwr.carsten-peters.com/kwr_termine/die-welt-in-mehreren-sprachen-erleben/
SUMMARY:Die Welt in mehreren Sprachen erleben: Wie geht das?
DTSTART:20240318T150000Z
END:VEVENT
END:VCALENDAR