BEGIN:VCALENDAR
VERSION:2.0
PRODID:-//hacksw/handcal//NONSGML v1.0//EN
CALSCALE:GREGORIAN
BEGIN:VEVENT
DTEND:20180424T070000Z
UID:69ed62fa30dc3
DTSTAMP:19700101T000000Z
LOCATION:
DESCRIPTION:
URL;VALUE=URI:https://kwr.carsten-peters.com/kwr_termine/umfeld-athlet/
SUMMARY:Umfeld Athlet
DTSTART:20180423T070000Z
END:VEVENT
END:VCALENDAR