BEGIN:VCALENDAR
VERSION:2.0
PRODID:-//hacksw/handcal//NONSGML v1.0//EN
CALSCALE:GREGORIAN
BEGIN:VEVENT
DTEND:20201217T193000Z
UID:69ebc75e6698b
DTSTAMP:19700101T000000Z
LOCATION:
DESCRIPTION:Wissenschaft in zehn Minuten, verpackt in spannenden und anschaulichen Vorträgen: Das gibt es beim Science Slam! Junge Wissenschaftler verlassen die Labore und Hörsäle und präsentieren eigene Forschungsprojekte auf den Bühnen der Clubs.
URL;VALUE=URI:https://kwr.carsten-peters.com/kwr_termine/science-slam-11/
SUMMARY:Science Slam
DTSTART:20201217T193000Z
END:VEVENT
END:VCALENDAR