BEGIN:VCALENDAR
VERSION:2.0
PRODID:-//hacksw/handcal//NONSGML v1.0//EN
CALSCALE:GREGORIAN
BEGIN:VEVENT
DTEND:20240321T161500Z
UID:69eb5b12bfb52
DTSTAMP:19700101T000000Z
LOCATION:
DESCRIPTION:Wir möchten mit euch darüber nachdenken, warum sich unsere Gefühle und Gedanken manchmal ganz normal anfühlen und dann wieder ganz kompliziert zu sein scheinen.
URL;VALUE=URI:https://kwr.carsten-peters.com/kwr_termine/alles-steht-kopf/
SUMMARY:Alles steht Kopf – Woran merke ich das, und was hilft mir dann?
DTSTART:20240321T153000Z
END:VEVENT
END:VCALENDAR