BEGIN:VCALENDAR
VERSION:2.0
PRODID:-//hacksw/handcal//NONSGML v1.0//EN
CALSCALE:GREGORIAN
BEGIN:VEVENT
DTEND:20241127T170000Z
UID:69e787df5595c
DTSTAMP:19700101T000000Z
LOCATION:
DESCRIPTION:Sie spielen mit dem Gedanken, Personal Trainer*in zu werden? An Deutschlands einziger Sportuniversität können Sie sich in ca. acht Monaten dazu ausbilden lassen. Das Hochschulzertifikat liefert ganz kompakt wissenschaftlich fundierte Inhalte mit vielen Praxiseinheiten, so dass Sie das Gelernte auch direkt mit Ihren Klient*innen anwenden können.
URL;VALUE=URI:https://kwr.carsten-peters.com/kwr_termine/digitaler-infotermin-dshs-personal-trainer/
SUMMARY:Digitaler Infotermin: DSHS Personal Trainer
DTSTART:20241127T160000Z
END:VEVENT
END:VCALENDAR