BEGIN:VCALENDAR
VERSION:2.0
PRODID:-//hacksw/handcal//NONSGML v1.0//EN
CALSCALE:GREGORIAN
BEGIN:VEVENT
DTEND:20200518T150000Z
UID:69e7c2e03cc83
DTSTAMP:19700101T000000Z
LOCATION:
DESCRIPTION:Die Zentrale Studienberatung der TH Köln bietet eine offene Sprechstunde für Studieninteressierte in Form eines Web-Seminars an. Mitarbeiterinnen und Mitarbeiter der Zentralen Studienberatung beantworten Fragen zu den Studiengängen der Hochschule, zur Einschreibung oder Studienfinanzierung sowie zur Wohnungssuche.
URL;VALUE=URI:https://kwr.carsten-peters.com/kwr_termine/studieren-an-der-th-koeln/
SUMMARY:Studieren an der TH Köln
DTSTART:20200518T140000Z
END:VEVENT
END:VCALENDAR