BEGIN:VCALENDAR
VERSION:2.0
PRODID:-//hacksw/handcal//NONSGML v1.0//EN
CALSCALE:GREGORIAN
BEGIN:VEVENT
DTEND:20181114T173000Z
UID:69e8987d8cdaa
DTSTAMP:19700101T000000Z
LOCATION:
DESCRIPTION:Vortrag an der TH Köln: Freiberufler*innen treffen auf ihrem Weg in die Selbstständigkeit auf viele Herausforderungen. Wie lassen sich diese identifizieren und erfolgreich bewältigen?
URL;VALUE=URI:https://kwr.carsten-peters.com/kwr_termine/existenzgruendung/
SUMMARY:Existenzgründung
DTSTART:20181114T160000Z
END:VEVENT
END:VCALENDAR