BEGIN:VCALENDAR
VERSION:2.0
PRODID:-//hacksw/handcal//NONSGML v1.0//EN
CALSCALE:GREGORIAN
BEGIN:VEVENT
DTEND:20190418T160000Z
UID:69eb2cd243faa
DTSTAMP:19700101T000000Z
LOCATION:
DESCRIPTION:Ausstellung: Studierende der Fakultät für Architektur der TH Köln vom Labor für Experimentelles Bauen haben sich mit dem Thema Illusion auseinandergesetzt und Konzepte zu verzerrten Räumen entwickelt.
URL;VALUE=URI:https://kwr.carsten-peters.com/kwr_termine/perspektivwechsel/
SUMMARY:PerspektivWechsel
DTSTART:20190416T160000Z
END:VEVENT
END:VCALENDAR