BEGIN:VCALENDAR
VERSION:2.0
PRODID:-//hacksw/handcal//NONSGML v1.0//EN
CALSCALE:GREGORIAN
BEGIN:VEVENT
DTEND:20191120T160000Z
UID:69ec9774974f7
DTSTAMP:19700101T000000Z
LOCATION:
DESCRIPTION:Public lecture at Max Planck Institute for the Study of Societies: Jeffrey M. Chwieroth (London School of Economics and Political Science) talks about how the great expectations of the middle class have changed the politics of banking crises.
URL;VALUE=URI:https://kwr.carsten-peters.com/kwr_termine/the-wealth-effect/
SUMMARY:The Wealth Effect
DTSTART:20191120T160000Z
END:VEVENT
END:VCALENDAR