BEGIN:VCALENDAR
VERSION:2.0
PRODID:-//hacksw/handcal//NONSGML v1.0//EN
CALSCALE:GREGORIAN
BEGIN:VEVENT
DTEND:20190822T153000Z
UID:69ed4f08c7209
DTSTAMP:19700101T000000Z
LOCATION:
DESCRIPTION:Bei den Infoabenden an der Fachhochschule des Mittelstands (FHM) erhalten Studieninteressierte einen Einblick in die Hochschule, die Studiengänge und die entsprechenden Studieninhalte.
URL;VALUE=URI:https://kwr.carsten-peters.com/kwr_termine/infoabend-an-der-fhm/
SUMMARY:Infoabend an der FHM
DTSTART:20190822T153000Z
END:VEVENT
END:VCALENDAR